BEGIN:VCALENDAR
VERSION:2.0
PRODID:-//Ranch13.sk//NetteEventExport//EN
CALSCALE:GREGORIAN
METHOD:PUBLISH
BEGIN:VEVENT
SUMMARY:Svätomartinský pochod s degustáciou mladých vín 15.11.2025
DTSTART:20251115T120000
DTEND:20251115T190000
UID:art-243@www.ranch13.sk
URL:https://www.ranch13.sk/svatomartinsky-pochod-s-degustaciou-mladych-vin
DTSTAMP:20260202T123014
DESCRIPTION:Wa5069\n<h2><strong>POZ&Yacute\;VAME V&Aacute\;S&nbsp\;</strong></h2>\n<p><strong>Sv&auml\;tomartinsk&yacute\; pochod je u n&aacute\;s každoročn&aacute\; obľ&uacute\;ben&aacute\; akcia. Stetne sa pri nej dobr&aacute\; spoločnosť\, mlad&eacute\; v&iacute\;no a v&yacute\;born&eacute\; jedlo.</strong></p>\n<p>Pochod zač&iacute\;na na Statku &Scaron\;ťastn&aacute\; 13 v Ľuborči -&nbsp\; Ul. Jozefa Lacu 13. Potom na&scaron\;e kroky putuj&uacute\; k Borovici\, kde doraz&iacute\;me cca 14\:11. Sv&auml\;tomartisk&eacute\; menu ktor&eacute\; si pripravil n&aacute\;&scaron\; kuch&aacute\;r si vychutn&aacute\;me o 17\:11 na Ranch 13.&nbsp\;</p>\n<p>Ak sa z&uacute\;častnite cel&eacute\;ho pochodu zo statku - degust&aacute\;cia 8 vzoriek mlad&eacute\;ho v&iacute\;na + ochutn&aacute\;vka pri Borovici 6 vzoriek sv&auml\;tomartinsk&eacute\;ho v&iacute\;na + degustačnej večere - <strong>79\,11&euro\;/ OSOBA.</strong>&nbsp\;</p>\n<p>Ak sa z&uacute\;častnite degust&aacute\;cie pri borovici 6 vzoriek sv&auml\;tomartinsk&eacute\;ho v&iacute\;na z Moravy + husacie hody - <strong>69\,11&euro\; / OSOBA&nbsp\;</strong></p>\n<p>Ak sa z&uacute\;časnite len degustačnej večere v Saloone - <strong>59\,11&euro\;/ OSOBA&nbsp\;</strong></p>\n<p>&nbsp\;</p>\n<p><strong>REZERVUJ SI SVOJE MIESTO</strong></p>\n<p><em>0948 469 384&nbsp\; &nbsp\; &nbsp\; &nbsp\; &nbsp\;recepcia.ranch13@bricol.mobi</em></p>
END:VEVENT
END:VCALENDAR
