BEGIN:VCALENDAR
VERSION:2.0
PRODID:-//Ranch13.sk//NetteEventExport//EN
CALSCALE:GREGORIAN
METHOD:PUBLISH
BEGIN:VEVENT
SUMMARY:ARENA - Slovak Championship in speed disciplines (SAWRR+WJL+PP)
DTSTART:20261003T090000
DTEND:20261003T180000
UID:art-381@www.ranch13.sk
URL:https://www.ranch13.sk/en/slovak-championship-in-speed-disciplines-sawrr-wjl-pp
DTSTAMP:20260415T103736
DESCRIPTION:*
END:VEVENT
END:VCALENDAR
