BEGIN:VCALENDAR
VERSION:2.0
PRODID:-//Ranch13.sk//NetteEventExport//EN
CALSCALE:GREGORIAN
METHOD:PUBLISH
BEGIN:VEVENT
SUMMARY:SALOON - Wedding Ms. Mináriková
DTSTART:20260627T120000
DTEND:20260627T230000
UID:art-242@www.ranch13.sk
URL:https://www.ranch13.sk/en/saloon-wedding-sl-minarikova
DTSTAMP:20260415T093541
DESCRIPTION:Wa6016
END:VEVENT
END:VCALENDAR
