BEGIN:VCALENDAR
VERSION:2.0
PRODID:-//Ranch13.sk//NetteEventExport//EN
CALSCALE:GREGORIAN
METHOD:PUBLISH
BEGIN:VEVENT
SUMMARY:SALOON - Wedding Ms. Letkova
DTSTART:20260620T120000
DTEND:20260620T220000
UID:art-231@www.ranch13.sk
URL:https://www.ranch13.sk/en/saloon-wedding-sl-letkova
DTSTAMP:20260415T093814
DESCRIPTION:Wa6007
END:VEVENT
END:VCALENDAR
