BEGIN:VCALENDAR
VERSION:2.0
PRODID:-//Ranch13.sk//NetteEventExport//EN
CALSCALE:GREGORIAN
METHOD:PUBLISH
BEGIN:VEVENT
SUMMARY:SALOON - Wedding Ms. Austin
DTSTART:20260725T120000
DTEND:20260725T220000
UID:art-232@www.ranch13.sk
URL:https://www.ranch13.sk/en/saloon-wedding-sl-austin
DTSTAMP:20260415T093116
DESCRIPTION:Wa6004
END:VEVENT
END:VCALENDAR
