BEGIN:VCALENDAR
VERSION:2.0
PRODID:-//Ranch13.sk//NetteEventExport//EN
CALSCALE:GREGORIAN
METHOD:PUBLISH
BEGIN:VEVENT
SUMMARY:SALOON - Family meeting Mrs. Moravčíková
DTSTART:20261003T120000
DTEND:20261003T220000
UID:art-238@www.ranch13.sk
URL:https://www.ranch13.sk/en/saloon-family-meeting-mrs-moravcikova
DTSTAMP:20260330T100513
DESCRIPTION:Wa5027
END:VEVENT
END:VCALENDAR
