BEGIN:VCALENDAR
VERSION:2.0
PRODID:-//Ranch13.sk//NetteEventExport//EN
CALSCALE:GREGORIAN
METHOD:PUBLISH
BEGIN:VEVENT
SUMMARY:ARENA - 4NCHA CUTTING III.
DTSTART:20261023T080000
DTEND:20261025T160000
UID:art-280@www.ranch13.sk
URL:https://www.ranch13.sk/en/hall-4ncha-cutting-iii
DTSTAMP:20260415T102256
DESCRIPTION:Wa6026
END:VEVENT
END:VCALENDAR
