BEGIN:VCALENDAR
VERSION:2.0
PRODID:-//Ranch13.sk//NetteEventExport//EN
CALSCALE:GREGORIAN
METHOD:PUBLISH
BEGIN:VEVENT
SUMMARY:ARENA - Reining MSR + NRHA  November Slide Autumn DERBY
DTSTART:20261118T080000
DTEND:20261122T160000
UID:art-298@www.ranch13.sk
URL:https://www.ranch13.sk/en/hala-reining-msr-nrha-ranch13-november-slide-autumn-derby-2
DTSTAMP:20260415T103628
DESCRIPTION:Wa6036
END:VEVENT
END:VCALENDAR
