BEGIN:VCALENDAR
VERSION:2.0
PRODID:-//Ranch13.sk//NetteEventExport//EN
CALSCALE:GREGORIAN
METHOD:PUBLISH
BEGIN:VEVENT
SUMMARY:ARENA - Reining MSR + NRHA - November Slide Autumn DERBY 19.-23.11.2025
DTSTART:20251119T120000
DTEND:20251123T180000
UID:art-221@www.ranch13.sk
URL:https://www.ranch13.sk/en/hala-reining-msr-nrha-ranch13-november-slide-autumn-derby-19-23-11-2025
DTSTAMP:20260415T102822
DESCRIPTION:Wa5047\n<p> </p>\n<p><a href="https\://www.eurorodeo.eu/detail-zavodu/1490">More info here</a></p>
END:VEVENT
END:VCALENDAR
