BEGIN:VCALENDAR
VERSION:2.0
PRODID:-//Ranch13.sk//NetteEventExport//EN
CALSCALE:GREGORIAN
METHOD:PUBLISH
BEGIN:VEVENT
SUMMARY:ARENA - ERCHA Regional Show - Cow horse + MSR Team Roping + MSR working cowhorse
DTSTART:20261030T080000
DTEND:20261101T180000
UID:art-360@www.ranch13.sk
URL:https://www.ranch13.sk/en/hala-ercha-regional-show-cow-horse-msr-team-roping-msr-ohradky
DTSTAMP:20260415T102317
DESCRIPTION:Wa6038
END:VEVENT
END:VCALENDAR
