BEGIN:VCALENDAR
VERSION:2.0
PRODID:-//Ranch13.sk//NetteEventExport//EN
CALSCALE:GREGORIAN
METHOD:PUBLISH
BEGIN:VEVENT
SUMMARY:ARENA - Autumn Holiday 2026 - Roping\, ERCHA Cow horse training
DTSTART:20261028T080000
DTEND:20261029T190000
UID:art-359@www.ranch13.sk
URL:https://www.ranch13.sk/en/hala-autumn-holiday-2026-kurz-roping-ercha-cow-horse-training
DTSTAMP:20260415T102234
DESCRIPTION:Wa6054
END:VEVENT
END:VCALENDAR
