BEGIN:VCALENDAR
VERSION:2.0
PRODID:-//Ranch13.sk//NetteEventExport//EN
CALSCALE:GREGORIAN
METHOD:PUBLISH
BEGIN:VEVENT
SUMMARY:Christmas Alley - Perinbaba
DTSTART:20261129T170000
DTEND:20261129T200000
UID:art-320@www.ranch13.sk
URL:https://www.ranch13.sk/en/christmas-alley-perinbaba
DTSTAMP:20260330T101029
DESCRIPTION:*
END:VEVENT
END:VCALENDAR
