BEGIN:VCALENDAR
VERSION:2.0
PRODID:-//Ranch13.sk//NetteEventExport//EN
CALSCALE:GREGORIAN
METHOD:PUBLISH
BEGIN:VEVENT
SUMMARY:🎄  VIANOČNÁ ULIČKA - POPOLUŠKA 29.11.2024
DTSTART:20241129T000000
DTEND:20241129T000000
UID:art-164@www.ranch13.sk
URL:https://www.ranch13.sk/bull-riding-160-26-161-303-164-308
DTSTAMP:20251022T084957
DESCRIPTION:*
END:VEVENT
END:VCALENDAR
