BEGIN:VCALENDAR
VERSION:2.0
PRODID:-//Ranch13.sk//NetteEventExport//EN
CALSCALE:GREGORIAN
METHOD:PUBLISH
BEGIN:VEVENT
SUMMARY:Vianočná ulička - Mrázik 28.12.2025
DTSTART:20251228T170000
DTEND:20251228T200000
UID:art-272@www.ranch13.sk
URL:https://www.ranch13.sk/vianocna-ulicka-3
DTSTAMP:20260129T140158
DESCRIPTION:Wa5074
END:VEVENT
END:VCALENDAR
