BEGIN:VCALENDAR
VERSION:2.0
PRODID:-//Ranch13.sk//NetteEventExport//EN
CALSCALE:GREGORIAN
METHOD:PUBLISH
BEGIN:VEVENT
SUMMARY:STODOLA - svadba sl.  Vidláková
DTSTART:20250502T120000
DTEND:20250502T220000
UID:art-250@www.ranch13.sk
URL:https://www.ranch13.sk/stodola-svadba-sl-vidlakova
DTSTAMP:20250804T115725
DESCRIPTION:Wa5015
END:VEVENT
END:VCALENDAR
