BEGIN:VCALENDAR
VERSION:2.0
PRODID:-//Ranch13.sk//NetteEventExport//EN
CALSCALE:GREGORIAN
METHOD:PUBLISH
BEGIN:VEVENT
SUMMARY:STODOLA - svadba sl. Barčinová
DTSTART:20250822T120000
DTEND:20250822T230000
UID:art-209@www.ranch13.sk
URL:https://www.ranch13.sk/stodola-svadba-sl-barcinova
DTSTAMP:20250513T104454
DESCRIPTION:Wa5048
END:VEVENT
END:VCALENDAR
