BEGIN:VCALENDAR
VERSION:2.0
PRODID:-//Ranch13.sk//NetteEventExport//EN
CALSCALE:GREGORIAN
METHOD:PUBLISH
BEGIN:VEVENT
SUMMARY:SLOVAK STALLION SHOW 2026
DTSTART:20260307T090000
DTEND:20260307T230000
UID:art-285@www.ranch13.sk
URL:https://www.ranch13.sk/slovak-stallion-show-2026
DTSTAMP:20260310T081310
DESCRIPTION:Wa6028
END:VEVENT
END:VCALENDAR
