BEGIN:VCALENDAR
VERSION:2.0
PRODID:-//Ranch13.sk//NetteEventExport//EN
CALSCALE:GREGORIAN
METHOD:PUBLISH
BEGIN:VEVENT
SUMMARY:SLOVAK STALLION SHOW 8.3. 2025
DTSTART:20250308T010000
DTEND:20250308T230000
UID:art-186@www.ranch13.sk
URL:https://www.ranch13.sk/slovak-stallion-show-2025
DTSTAMP:20251021T140158
DESCRIPTION:Wa5021
END:VEVENT
END:VCALENDAR
