BEGIN:VCALENDAR
VERSION:2.0
PRODID:-//Ranch13.sk//NetteEventExport//EN
CALSCALE:GREGORIAN
METHOD:PUBLISH
BEGIN:VEVENT
SUMMARY:Drezúra Easter All Round Show - SAWRR 1.kolo + WRC B
DTSTART:20260403T120000
DTEND:20260405T180000
UID:art-286@www.ranch13.sk
URL:https://www.ranch13.sk/sk-nemsova-drezura-all-round-sawrr-1-kolo-wrc-b
DTSTAMP:20260408T122156
DESCRIPTION:Wa6027\n<p><a href="https\://www.eurorodeo.eu/detail-zavodu/1664">Viac info</a></p>
END:VEVENT
END:VCALENDAR
