BEGIN:VCALENDAR
VERSION:2.0
PRODID:-//Ranch13.sk//NetteEventExport//EN
CALSCALE:GREGORIAN
METHOD:PUBLISH
BEGIN:VEVENT
SUMMARY:SALOON - svadba sl. Tvrdoňová
DTSTART:20250621T100000
DTEND:20250621T230000
UID:art-39@www.ranch13.sk
URL:https://www.ranch13.sk/saloon-svadba-sl-hrickova-1
DTSTAMP:20241211T085057
DESCRIPTION:Wa5006
END:VEVENT
END:VCALENDAR
