BEGIN:VCALENDAR
VERSION:2.0
PRODID:-//Ranch13.sk//NetteEventExport//EN
CALSCALE:GREGORIAN
METHOD:PUBLISH
BEGIN:VEVENT
SUMMARY:Novoročná Vianočná Ulička - Princezná ze mlejna 3.1.2025
DTSTART:20250103T170000
DTEND:20250103T200000
UID:art-177@www.ranch13.sk
URL:https://www.ranch13.sk/novorocna-vianocna-ulicka-17-00-20-00-princezna-ze-mlejna
DTSTAMP:20260202T132147
DESCRIPTION:Wa4062\n<p>Mil&iacute\; n&aacute\;v&scaron\;tevn&iacute\;ci\,</p>\n<p>s radosťou v&aacute\;s poz&yacute\;vame na Ranč 13\, kde si m&ocirc\;žete vychutnať nezabudnuteľn&yacute\; z&aacute\;žitok s rozpr&aacute\;vkou "Princezna ze mlejna." T&aacute\;to kr&aacute\;sna česk&aacute\; rozpr&aacute\;vka v&aacute\;s prenesie do sveta k&uacute\;ziel\, l&aacute\;sky a dobrodružstiev. Pr&iacute\;beh sleduje p&ocirc\;vabn&uacute\; princezn&uacute\;\, ktor&aacute\; žije vo vodnom mlyne\, a jej stretnutie s odv&aacute\;žnym mlad&yacute\;m mužom\, ktor&yacute\; sa snaž&iacute\; z&iacute\;skať jej srdce.</p>\n<p>Pr&iacute\;ďte a nechajte sa uniesť atmosf&eacute\;rou rozpr&aacute\;vky\, ktor&aacute\; pote&scaron\;&iacute\; nielen deti\, ale aj dospel&yacute\;ch. Počas predstavenia sa budete m&ocirc\;cť ponoriť do čarovn&eacute\;ho sveta\, pln&eacute\;ho z&aacute\;bavy a kr&aacute\;snych piesn&iacute\;\, ktor&eacute\; v&aacute\;s zaručene očaria.</p>\n<p>Nezme&scaron\;kajte t&uacute\;to pr&iacute\;ležitosť a pr&iacute\;ďte si užiť rozpr&aacute\;vkov&yacute\; deň na Ranči 13. Te&scaron\;&iacute\;me sa na va&scaron\;u n&aacute\;v&scaron\;tevu!</p>
END:VEVENT
END:VCALENDAR
