BEGIN:VCALENDAR
VERSION:2.0
PRODID:-//Ranch13.sk//NetteEventExport//EN
CALSCALE:GREGORIAN
METHOD:PUBLISH
BEGIN:VEVENT
SUMMARY:KANTÍNA - Firemná akcia ATC-JR s.r.o.
DTSTART:20250124T120000
DTEND:20250124T230000
UID:art-183@www.ranch13.sk
URL:https://www.ranch13.sk/kantina-firemna-akcia-atc-jr-s-r-o
DTSTAMP:20241217T121601
DESCRIPTION:Wa5023
END:VEVENT
END:VCALENDAR
