BEGIN:VCALENDAR
VERSION:2.0
PRODID:-//Ranch13.sk//NetteEventExport//EN
CALSCALE:GREGORIAN
METHOD:PUBLISH
BEGIN:VEVENT
SUMMARY:Christmas Alley - Three Nutcrackers for Cinderella 7.12.2025
DTSTART:20251207T170000
DTEND:20251207T200000
UID:art-264@www.ranch13.sk
URL:https://www.ranch13.sk/en/vianocna-ulicka-tri-oriesky-pre-popolusku
DTSTAMP:20260330T100531
DESCRIPTION:Wa5074
END:VEVENT
END:VCALENDAR
