BEGIN:VCALENDAR
VERSION:2.0
PRODID:-//Ranch13.sk//NetteEventExport//EN
CALSCALE:GREGORIAN
METHOD:PUBLISH
BEGIN:VEVENT
SUMMARY:BARN - Wedding Ms. Zemanovicová
DTSTART:20260912T120000
DTEND:20260912T220000
UID:art-236@www.ranch13.sk
URL:https://www.ranch13.sk/en/stodola-wedding-of-sl-zemanovicova
DTSTAMP:20260415T104441
DESCRIPTION:Wa6009
END:VEVENT
END:VCALENDAR
