BEGIN:VCALENDAR
VERSION:2.0
PRODID:-//Ranch13.sk//NetteEventExport//EN
CALSCALE:GREGORIAN
METHOD:PUBLISH
BEGIN:VEVENT
SUMMARY:BARN - Wedding Ms. Mizeraková
DTSTART:20260530T120000
DTEND:20260530T220000
UID:art-229@www.ranch13.sk
URL:https://www.ranch13.sk/en/stodola-wedding-of-sl-mizerakova-1
DTSTAMP:20260415T094742
DESCRIPTION:Wa6014
END:VEVENT
END:VCALENDAR
