BEGIN:VCALENDAR
VERSION:2.0
PRODID:-//Ranch13.sk//NetteEventExport//EN
CALSCALE:GREGORIAN
METHOD:PUBLISH
BEGIN:VEVENT
SUMMARY:BARN - Wedding Ms. Jandušíková
DTSTART:20260919T120000
DTEND:20260919T220000
UID:art-256@www.ranch13.sk
URL:https://www.ranch13.sk/en/stodola-wedding-of-sl-jandusikova
DTSTAMP:20260415T104509
DESCRIPTION:Wa6023
END:VEVENT
END:VCALENDAR
