BEGIN:VCALENDAR
VERSION:2.0
PRODID:-//Ranch13.sk//NetteEventExport//EN
CALSCALE:GREGORIAN
METHOD:PUBLISH
BEGIN:VEVENT
SUMMARY:BARN - Wedding Ms. Chupacova
DTSTART:20260822T120000
DTEND:20260822T220000
UID:art-309@www.ranch13.sk
URL:https://www.ranch13.sk/en/stodola-wedding-of-sl-chupacova
DTSTAMP:20260415T104629
DESCRIPTION:Wa6040
END:VEVENT
END:VCALENDAR
