BEGIN:VCALENDAR
VERSION:2.0
PRODID:-//Ranch13.sk//NetteEventExport//EN
CALSCALE:GREGORIAN
METHOD:PUBLISH
BEGIN:VEVENT
SUMMARY:STODOLA - Wedding of sl. Tabačárová
DTSTART:20250920T000000
DTEND:20250920T000000
UID:art-70@www.ranch13.sk
URL:https://www.ranch13.sk/en/stodola-svadba-sl-veronika-brlasova
DTSTAMP:20260330T100053
DESCRIPTION:wa5001
END:VEVENT
END:VCALENDAR
