BEGIN:VCALENDAR
VERSION:2.0
PRODID:-//Ranch13.sk//NetteEventExport//EN
CALSCALE:GREGORIAN
METHOD:PUBLISH
BEGIN:VEVENT
SUMMARY:STODOLA - svadba sl. Mogorová
DTSTART:20250830T100000
DTEND:20250830T230000
UID:art-46@www.ranch13.sk
URL:https://www.ranch13.sk/en/stodola-svadba-nika-palusova
DTSTAMP:20250418T180050
DESCRIPTION:Wa5013
END:VEVENT
END:VCALENDAR
