BEGIN:VCALENDAR
VERSION:2.0
PRODID:-//Ranch13.sk//NetteEventExport//EN
CALSCALE:GREGORIAN
METHOD:PUBLISH
BEGIN:VEVENT
SUMMARY:SALOON - Wedding sl. Strnková
DTSTART:20230520T120000
DTEND:20230520T230000
UID:art-318@www.ranch13.sk
URL:https://www.ranch13.sk/en/saloon-wedding-sl-strnkova-1
DTSTAMP:20260330T101028
DESCRIPTION:*
END:VEVENT
END:VCALENDAR
