BEGIN:VCALENDAR
VERSION:2.0
PRODID:-//Ranch13.sk//NetteEventExport//EN
CALSCALE:GREGORIAN
METHOD:PUBLISH
BEGIN:VEVENT
SUMMARY:SALOON - Wedding Ms. Polášová
DTSTART:20260829T120000
DTEND:20260829T220000
UID:art-247@www.ranch13.sk
URL:https://www.ranch13.sk/en/saloon-wedding-sl-polasova
DTSTAMP:20260415T093024
DESCRIPTION:Wa6019
END:VEVENT
END:VCALENDAR
