BEGIN:VCALENDAR
VERSION:2.0
PRODID:-//Ranch13.sk//NetteEventExport//EN
CALSCALE:GREGORIAN
METHOD:PUBLISH
BEGIN:VEVENT
SUMMARY:SALOON - Wedding Ms. Gregušová
DTSTART:20260516T120000
DTEND:20260516T230000
UID:art-244@www.ranch13.sk
URL:https://www.ranch13.sk/en/saloon-wedding-sl-gregusova
DTSTAMP:20260415T093245
DESCRIPTION:Wa6017
END:VEVENT
END:VCALENDAR
