BEGIN:VCALENDAR
VERSION:2.0
PRODID:-//Ranch13.sk//NetteEventExport//EN
CALSCALE:GREGORIAN
METHOD:PUBLISH
BEGIN:VEVENT
SUMMARY:STODOLA - wedding of sl. Holá
DTSTART:20250606T100000
DTEND:20250606T230000
UID:art-133@www.ranch13.sk
URL:https://www.ranch13.sk/en/saloon-svadba-sl-tupa
DTSTAMP:20260330T100155
DESCRIPTION:Wa5004
END:VEVENT
END:VCALENDAR
