BEGIN:VCALENDAR
VERSION:2.0
PRODID:-//Ranch13.sk//NetteEventExport//EN
CALSCALE:GREGORIAN
METHOD:PUBLISH
BEGIN:VEVENT
SUMMARY:SALOON - Svadba pán Koška
DTSTART:20190713T100000
DTEND:20190713T220000
UID:art-375@www.ranch13.sk
URL:https://www.ranch13.sk/en/saloon-svadba-pan-koska
DTSTAMP:20260327T124924
DESCRIPTION:*
END:VEVENT
END:VCALENDAR
