BEGIN:VCALENDAR
VERSION:2.0
PRODID:-//Ranch13.sk//NetteEventExport//EN
CALSCALE:GREGORIAN
METHOD:PUBLISH
BEGIN:VEVENT
SUMMARY:SALOON + SAIGON - CORPORATE EVENT KORA A.S.
DTSTART:20231005T090000
DTEND:20231005T200000
UID:art-84@www.ranch13.sk
URL:https://www.ranch13.sk/en/saloon-saigon-firemna-akcia-kora-a-s
DTSTAMP:20260330T100057
DESCRIPTION:WA3084
END:VEVENT
END:VCALENDAR
