BEGIN:VCALENDAR
VERSION:2.0
PRODID:-//Ranch13.sk//NetteEventExport//EN
CALSCALE:GREGORIAN
METHOD:PUBLISH
BEGIN:VEVENT
SUMMARY:SALON - Wedding sl. Šturikova
DTSTART:20190914T080000
DTEND:20260327T220000
UID:art-374@www.ranch13.sk
URL:https://www.ranch13.sk/en/salon-svadba-sl-sturikova
DTSTAMP:20260327T123741
DESCRIPTION:*
END:VEVENT
END:VCALENDAR
