BEGIN:VCALENDAR
VERSION:2.0
PRODID:-//Ranch13.sk//NetteEventExport//EN
CALSCALE:GREGORIAN
METHOD:PUBLISH
BEGIN:VEVENT
SUMMARY:New Year's Christmas Alley - Princess from the Mill 3.1.2025
DTSTART:20250103T170000
DTEND:20250103T200000
UID:art-177@www.ranch13.sk
URL:https://www.ranch13.sk/en/novorocna-vianocna-ulicka-17-00-20-00-princezna-ze-mlejna
DTSTAMP:20260330T100410
DESCRIPTION:Wa4062\n<p>Dear visitors\,</p>\n<p>We are pleased to invite you to Ranch 13\, where you can enjoy an unforgettable experience with the fairy tale "The Princess of the Mill." This beautiful Czech fairy tale will transport you to a world of magic\, love and adventure. The story follows a charming princess who lives in a water mill and her encounter with a brave young man who tries to win her heart.</p>\n<p>Come and let yourself be carried away by the atmosphere of a fairy tale that will delight not only children\, but also adults. During the performance you will be able to immerse yourself in a magical world full of fun and beautiful songs that are guaranteed to enchant you.</p>\n<p>Don't miss this opportunity and come and enjoy a fairy tale day at Ranch 13. We look forward to your visit!</p>
END:VEVENT
END:VCALENDAR
