BEGIN:VCALENDAR
VERSION:2.0
PRODID:-//Ranch13.sk//NetteEventExport//EN
CALSCALE:GREGORIAN
METHOD:PUBLISH
BEGIN:VEVENT
SUMMARY:Mrs. Németh's celebration
DTSTART:20241130T160000
DTEND:20241130T200000
UID:art-384@www.ranch13.sk
URL:https://www.ranch13.sk/en/mrs-nemeth-s-celebration
DTSTAMP:20260414T130414
DESCRIPTION:*
END:VEVENT
END:VCALENDAR
