BEGIN:VCALENDAR
VERSION:2.0
PRODID:-//Ranch13.sk//NetteEventExport//EN
CALSCALE:GREGORIAN
METHOD:PUBLISH
BEGIN:VEVENT
SUMMARY:Horse show - Horse of 5 Element
DTSTART:20260605T200000
DTEND:20260605T220000
UID:art-335@www.ranch13.sk
URL:https://www.ranch13.sk/en/horse-show-horse-of-pat-element-1
DTSTAMP:20260415T104854
DESCRIPTION:Wa6055\n<p><strong>🗓️ June 5\, 2026 at 8\:00 pm</strong></p>\n<p><em>"Heaven is within each of us. A truth you can experience."</em></p>\n<p><strong><span style="font-size\: 12pt\; color\: #000000\;">The Fifth Element Horse is a breathtaking European acclaimed galashow by the Haraldos Stunt Brothers.</span></strong></p>\n<p><span style="font-size\: 12pt\; color\: #000000\;">A one-of-a-kind performance of the magical connection between man and horses. </span><span style="font-size\: 12pt\; color\: #000000\;">Acrobatic stunts\, light and music show will give you an unforgettable experience. </span></p>\n<p>A riveting story of the birth of the world and the man in it\, told in the language of the four elements. Of the rise of pride and the impending fall. <strong>Of temptation and the delusion of self-importance.</strong> Of suffering\, humility and the great gift in which each of the Four Elements has invested a part of himself. A story of journey and return. <strong>A story about each of us.</strong></p>\n<p><strong>Why not miss this show?</strong></p>\n<ul style="list-style-type\: circle\;">\n<li>🐴 Horses and humans as one - you've never seen anything like it before</li>\n<li>🌍 A story that touches all of us</li>\n<li>🔥 A fire show and special effects that take your breath away</li>\n<li>🎵 Original music that gets under your skin</li>\n<li>💃 World-class stunt performances and acrobatics</li>\n<li>🎭 Superb choreography that takes you through the story</li>\n<li>🌙 A magical atmosphere that you will remember forever</li>\n<li>👨‍👩‍👧‍👦 An experience for the whole family</li>\n</ul>\n<p><iframe src="//www.youtube.com/embed/6W_sWGWX4eQ" width="500" height="280" allowfullscreen="allowfullscreen"></iframe></p>\n<h2><span style="font-size\: 18pt\;"><strong>WHERE YOU CAN BUY LEAFLES\:</strong></span></h2>\n<p><strong><a href="https\://www.inviton.eu/e-20862/nemsova-kon-piaty-element-konska-show-r13">INVITON - Grandstand E\,F Tables P01\, P06 + Standing Tickets</a></strong></p>\n<p><strong><a title="GOPAS - Grandstand A\,C\,H\,J + Standing Tickets" href="https\://www.gopass.travel/SK/zazitky-a-vstupenky/ev-20886-kun-paty-element-konska-show-r13/">GOPAS - Grandstand A\,C\,H\,J + Standing Tickets</a></strong></p>\n<p><strong><a href="/konska-show-kun-paty-element">👇Ranch 13 - Grandstand B\,D\,G\,I\, Tables K1 - K11 + Standing Tickets</a></strong></p>
END:VEVENT
END:VCALENDAR
