BEGIN:VCALENDAR
VERSION:2.0
PRODID:-//Ranch13.sk//NetteEventExport//EN
CALSCALE:GREGORIAN
METHOD:PUBLISH
BEGIN:VEVENT
SUMMARY:ARENA - 4NCHA CUTTING II.
DTSTART:20260807T120000
DTEND:20260809T180000
UID:art-279@www.ranch13.sk
URL:https://www.ranch13.sk/en/hall-4ncha-cutting-ii
DTSTAMP:20260415T103441
DESCRIPTION:Wa6025
END:VEVENT
END:VCALENDAR
