BEGIN:VCALENDAR
VERSION:2.0
PRODID:-//Ranch13.sk//NetteEventExport//EN
CALSCALE:GREGORIAN
METHOD:PUBLISH
BEGIN:VEVENT
SUMMARY:ARENA- Team Roping Round 1 - SAWRR
DTSTART:20260501T120000
DTEND:20260503T220000
UID:art-288@www.ranch13.sk
URL:https://www.ranch13.sk/en/hala-team-roping-round-1-sawrr
DTSTAMP:20260415T102722
DESCRIPTION:Wa6051
END:VEVENT
END:VCALENDAR
