BEGIN:VCALENDAR
VERSION:2.0
PRODID:-//Ranch13.sk//NetteEventExport//EN
CALSCALE:GREGORIAN
METHOD:PUBLISH
BEGIN:VEVENT
SUMMARY:ARENA - Barrel Race\, Pole Bending SAWRR
DTSTART:20260919T080000
DTEND:20260919T200000
UID:art-380@www.ranch13.sk
URL:https://www.ranch13.sk/en/hala-rychlostky-sawrr
DTSTAMP:20260415T102900
DESCRIPTION:*
END:VEVENT
END:VCALENDAR
