BEGIN:VCALENDAR
VERSION:2.0
PRODID:-//Ranch13.sk//NetteEventExport//EN
CALSCALE:GREGORIAN
METHOD:PUBLISH
BEGIN:VEVENT
SUMMARY:ARENA - Reining NRHA HOLIDAY SHOW + SAWRR 3rd round
DTSTART:20260715T120000
DTEND:20260719T180000
UID:art-291@www.ranch13.sk
URL:https://www.ranch13.sk/en/hala-reining-nrha-holiday-show-sawrr-3rd-round
DTSTAMP:20260415T103158
DESCRIPTION:Wa6032
END:VEVENT
END:VCALENDAR
