BEGIN:VCALENDAR
VERSION:2.0
PRODID:-//Ranch13.sk//NetteEventExport//EN
CALSCALE:GREGORIAN
METHOD:PUBLISH
BEGIN:VEVENT
SUMMARY:ARENA - Reining NRHA April Slide Spring DERBY + SAWRR Round 1
DTSTART:20260422T120000
DTEND:20260426T180000
UID:art-287@www.ranch13.sk
URL:https://www.ranch13.sk/en/hala-reining-nrha-april-slide-spring-derby-sawrr-round-1
DTSTAMP:20260415T102745
DESCRIPTION:Wa6042\n<p><a href="https\://www.eurorodeo.eu/detail-zavodu/1665">More info</a></p>
END:VEVENT
END:VCALENDAR
