BEGIN:VCALENDAR
VERSION:2.0
PRODID:-//Ranch13.sk//NetteEventExport//EN
CALSCALE:GREGORIAN
METHOD:PUBLISH
BEGIN:VEVENT
SUMMARY:ARENA - Holiday 2026 - Course\: roping\, ERCHA Cow horse training
DTSTART:20260720T120000
DTEND:20260724T180000
UID:art-292@www.ranch13.sk
URL:https://www.ranch13.sk/en/hala-holiday-2026-course-roping-ercha-cow-horse-training
DTSTAMP:20260415T103229
DESCRIPTION:Wa6044
END:VEVENT
END:VCALENDAR
