BEGIN:VCALENDAR
VERSION:2.0
PRODID:-//Ranch13.sk//NetteEventExport//EN
CALSCALE:GREGORIAN
METHOD:PUBLISH
BEGIN:VEVENT
SUMMARY:HALA - Detské závody na koníkoch - drezúra sawrr championat - reining (SAWRR)
DTSTART:20240907T080000
DTEND:20240908T170000
UID:art-155@www.ranch13.sk
URL:https://www.ranch13.sk/en/hala-detske-zavody-na-konikoch-drezura-sawrr-championat-reining-sawrr
DTSTAMP:20250418T180050
DESCRIPTION:WA4039
END:VEVENT
END:VCALENDAR
