BEGIN:VCALENDAR
VERSION:2.0
PRODID:-//Ranch13.sk//NetteEventExport//EN
CALSCALE:GREGORIAN
METHOD:PUBLISH
BEGIN:VEVENT
SUMMARY:Fašiangy s Furmanskými Pretekmi
DTSTART:20260207T100000
DTEND:20260207T150000
UID:art-382@www.ranch13.sk
URL:https://www.ranch13.sk/en/fasiangy-s-furmanskymi-pretekmi
DTSTAMP:20260408T125856
DESCRIPTION:Wa6029
END:VEVENT
END:VCALENDAR
