BEGIN:VCALENDAR
VERSION:2.0
PRODID:-//Ranch13.sk//NetteEventExport//EN
CALSCALE:GREGORIAN
METHOD:PUBLISH
BEGIN:VEVENT
SUMMARY:Christmas Alley - Three Nutcrackers for Cinderella
DTSTART:20261220T170000
DTEND:20261220T200000
UID:art-327@www.ranch13.sk
URL:https://www.ranch13.sk/en/christmas-alley-three-nutcrackers-for-cinderella
DTSTAMP:20260415T110719
DESCRIPTION:Wa6059
END:VEVENT
END:VCALENDAR
