BEGIN:VCALENDAR
VERSION:2.0
PRODID:-//Ranch13.sk//NetteEventExport//EN
CALSCALE:GREGORIAN
METHOD:PUBLISH
BEGIN:VEVENT
SUMMARY:Christmas Alley - St. Nicholas
DTSTART:20261205T170000
DTEND:20261205T200000
UID:art-321@www.ranch13.sk
URL:https://www.ranch13.sk/en/christmas-alley-st-nicholas
DTSTAMP:20260330T101029
DESCRIPTION:*
END:VEVENT
END:VCALENDAR
