BEGIN:VCALENDAR
VERSION:2.0
PRODID:-//Ranch13.sk//NetteEventExport//EN
CALSCALE:GREGORIAN
METHOD:PUBLISH
BEGIN:VEVENT
SUMMARY:Christmas Alley - Harry Potter
DTSTART:20261219T170000
DTEND:20261219T200000
UID:art-326@www.ranch13.sk
URL:https://www.ranch13.sk/en/christmas-alley-harry-potter-2
DTSTAMP:20260415T110739
DESCRIPTION:Wa6059
END:VEVENT
END:VCALENDAR
